BEGIN:VCALENDAR
VERSION:2.0
PRODID:-//GREATER CUMBERLAND CHAMBER  OF COMMERCE - ECPv6.15.17//NONSGML v1.0//EN
CALSCALE:GREGORIAN
METHOD:PUBLISH
X-WR-CALNAME:GREATER CUMBERLAND CHAMBER  OF COMMERCE
X-ORIGINAL-URL:https://greatercumberlandchamber.org
X-WR-CALDESC:Events for GREATER CUMBERLAND CHAMBER  OF COMMERCE
REFRESH-INTERVAL;VALUE=DURATION:PT1H
X-Robots-Tag:noindex
X-PUBLISHED-TTL:PT1H
BEGIN:VTIMEZONE
TZID:UTC
BEGIN:STANDARD
TZOFFSETFROM:+0000
TZOFFSETTO:+0000
TZNAME:UTC
DTSTART:20160101T000000
END:STANDARD
END:VTIMEZONE
BEGIN:VEVENT
DTSTART;TZID=UTC:20170516T100000
DTEND;TZID=UTC:20170516T120000
DTSTAMP:20260424T090948
CREATED:20201005T202529Z
LAST-MODIFIED:20201005T203842Z
UID:1223-1494928800-1494936000@greatercumberlandchamber.org
SUMMARY:Merrylands Chamber of Commerce organised event on Resources for business growth for small business
DESCRIPTION:Around 40 Businesses from Western Sydney attended a talk by Hon. Julie Owens Shadow Minister for Small Business and MP for Parramatta. . Ms. Owens spoke about various government facilities available for small businesses to help them grow their business. \nTopics covered included implications of the current budget on business\, various grants available and websites where business owners can find details of these grants\, Links to websites where small business owners can find help on tax Issues\, Business Planning\, GST submissions\, and Ombudsman services. \nThe talk was very informative and far exceeded our expectations stated Mariya Gojan President of the Chamber and Aussie Merrylands Franchisee. \npart from being the Shadow Minister for Small Business\, Julie Owens was a small business owner before she entered politics and therefore a perfect choice to advise small businesses – said Immanuel Selvaraj\, Secretary of the Chamber. \nThe Merrylands Chamber Of Commerce covers the Cumberland area and regularly organizes events that benefit small businesses. \nFor more information\, please contact: Mariya Gojan – President – 0417046665\nImmanuel Selvaraj – Secretary – 0428204739
URL:https://greatercumberlandchamber.org/event/merrylands-chamber-of-commerce-organised-event-on-resources-for-business-growth-for-small-business/
LOCATION:NSW
ATTACH;FMTTYPE=image/jpeg:https://greatercumberlandchamber.org/wp-content/uploads/2020/10/18493746_10154960017373891_1947898251_o-600x440-1.jpg
END:VEVENT
END:VCALENDAR